BEGIN:VCALENDAR
VERSION:2.0
PRODID:-//stbonaventureparish.ca//eCatholic//EN
X-WR-TIMEZONE:LocalTZ
BEGIN:VTIMEZONE
TZID:LocalTZ
X-LIC-LOCATION:LocalTZ
BEGIN:DAYLIGHT
TZOFFSETFROM:-0700
TZOFFSETTO:-0600
TZNAME:LocalTZ
DTSTART:19700308T020000
RRULE:FREQ=YEARLY;BYMONTH=3;BYDAY=2SU
END:DAYLIGHT
BEGIN:STANDARD
TZOFFSETFROM:-0600
TZOFFSETTO:-0700
TZNAME:LocalTZ
DTSTART:19701101T020000
RRULE:FREQ=YEARLY;BYMONTH=11;BYDAY=1SU
END:STANDARD
END:VTIMEZONE
BEGIN:VEVENT
UID:3064266@stbonaventureparish.ca
DTSTAMP:20260420T152043Z
DTSTART;VALUE=DATE:20260501
DTEND;VALUE=DATE:20260502
SUMMARY:St. Bonaventure Scholarship Grade 12 Students
DESCRIPTION:Apply today!
END:VEVENT
BEGIN:VEVENT
UID:3076922@stbonaventureparish.ca
DTSTAMP:20260420T152043Z
DTSTART;VALUE=DATE:20260501
DTEND;VALUE=DATE:20260502
SUMMARY:Living Rosary
DESCRIPTION:Join us for the Rosary- Fridays in May
END:VEVENT
BEGIN:VEVENT
UID:3060426@stbonaventureparish.ca
DTSTAMP:20260420T152043Z
DTSTART;VALUE=DATE:20260509
DTEND;VALUE=DATE:20260510
SUMMARY:46th Annual HIKE FOR LIFE
DESCRIPTION:SPONSOR Michelle Fraser
END:VEVENT
BEGIN:VEVENT
UID:3076921@stbonaventureparish.ca
DTSTAMP:20260420T152043Z
DTSTART;VALUE=DATE:20260509
DTEND;VALUE=DATE:20260510
SUMMARY:Knights of Columbus
DESCRIPTION:Mother's Day BBQ- May 9th  6:00 PM
END:VEVENT
BEGIN:VEVENT
UID:3076925@stbonaventureparish.ca
DTSTAMP:20260420T152043Z
DTSTART;VALUE=DATE:20260510
DTEND;VALUE=DATE:20260511
SUMMARY:Mother's Day Rose Sales
DESCRIPTION:Mother's Day Weekend- Volunteers are needed to sell roses
END:VEVENT
END:VCALENDAR
